Package: SPOTlight Version: 1.2.0 Command: rm -rf SPOTlight.buildbin-libdir && mkdir SPOTlight.buildbin-libdir && /Users/biocbuild/BBS/utils/build-universal.sh SPOTlight_1.2.0.tar.gz /Library/Frameworks/R.framework/Resources/bin/R SPOTlight.buildbin-libdir StartedAt: 2023-04-11 00:07:08 -0400 (Tue, 11 Apr 2023) EndedAt: 2023-04-11 00:07:41 -0400 (Tue, 11 Apr 2023) EllapsedTime: 32.9 seconds RetCode: 0 Status: OK PackageFile: SPOTlight_1.2.0.tgz PackageFileSize: 2.811 MiB