Package: SPIAT Version: 1.0.4 Command: rm -rf SPIAT.buildbin-libdir && mkdir SPIAT.buildbin-libdir && /Users/biocbuild/BBS/utils/build-universal.sh SPIAT_1.0.4.tar.gz /Library/Frameworks/R.framework/Resources/bin/R SPIAT.buildbin-libdir StartedAt: 2023-04-11 00:06:53 -0400 (Tue, 11 Apr 2023) EndedAt: 2023-04-11 00:07:34 -0400 (Tue, 11 Apr 2023) EllapsedTime: 41.0 seconds RetCode: 0 Status: OK PackageFile: SPIAT_1.0.4.tgz PackageFileSize: 6.874 MiB