Package: SMITE Version: 1.26.0 Command: /home/biocbuild/bbs-3.16-bioc/R/bin/R CMD build --keep-empty-dirs --no-resave-data SMITE StartedAt: 2023-04-10 18:17:09 -0400 (Mon, 10 Apr 2023) EndedAt: 2023-04-10 18:18:16 -0400 (Mon, 10 Apr 2023) EllapsedTime: 67.1 seconds RetCode: 0 Status: OK PackageFile: SMITE_1.26.0.tar.gz PackageFileSize: 3.082 MiB