Package: SLqPCR Version: 1.63.0 Command: /Library/Frameworks/R.framework/Resources/bin/R CMD build --keep-empty-dirs --no-resave-data SLqPCR StartedAt: 2022-07-07 05:24:31 -0400 (Thu, 07 Jul 2022) EndedAt: 2022-07-07 05:24:38 -0400 (Thu, 07 Jul 2022) EllapsedTime: 7.5 seconds RetCode: 0 Status: OK PackageFile: SLqPCR_1.63.0.tar.gz PackageFileSize: 219.8 KiB