Package: SLqPCR Version: 1.63.0 Command: rm -rf SLqPCR.buildbin-libdir && mkdir SLqPCR.buildbin-libdir && /Users/biocbuild/BBS/utils/build-universal.sh SLqPCR_1.63.0.tar.gz /Library/Frameworks/R.framework/Resources/bin/R SLqPCR.buildbin-libdir StartedAt: 2022-07-07 09:13:25 -0400 (Thu, 07 Jul 2022) EndedAt: 2022-07-07 09:13:31 -0400 (Thu, 07 Jul 2022) EllapsedTime: 5.2 seconds RetCode: 0 Status: OK PackageFile: SLqPCR_1.63.0.tgz PackageFileSize: 234.8 KiB