Package: SISPA Version: 1.28.0 Command: /home/biocbuild/bbs-3.16-bioc/R/bin/R CMD build --keep-empty-dirs --no-resave-data SISPA StartedAt: 2023-04-10 18:15:52 -0400 (Mon, 10 Apr 2023) EndedAt: 2023-04-10 18:18:24 -0400 (Mon, 10 Apr 2023) EllapsedTime: 152.7 seconds RetCode: 0 Status: OK PackageFile: SISPA_1.28.0.tar.gz PackageFileSize: 250.3 KiB