Package: SIMLR Version: 1.23.0 Command: /Library/Frameworks/R.framework/Resources/bin/R CMD INSTALL SIMLR StartedAt: 2022-07-10 16:29:46 -0400 (Sun, 10 Jul 2022) EndedAt: 2022-07-10 16:30:30 -0400 (Sun, 10 Jul 2022) EllapsedTime: 44.5 seconds RetCode: 0 Status: OK