Package: SIMLR Version: 1.23.0 Command: /Library/Frameworks/R.framework/Resources/bin/R CMD build --keep-empty-dirs --no-resave-data SIMLR StartedAt: 2022-07-07 05:10:39 -0400 (Thu, 07 Jul 2022) EndedAt: 2022-07-07 05:12:55 -0400 (Thu, 07 Jul 2022) EllapsedTime: 135.6 seconds RetCode: 0 Status: OK PackageFile: SIMLR_1.23.0.tar.gz PackageFileSize: 3.524 MiB