Package: SIMD Version: 1.16.0 Command: /home/biocbuild/bbs-3.16-bioc/R/bin/R CMD INSTALL SIMD StartedAt: 2023-04-10 15:10:43 -0400 (Mon, 10 Apr 2023) EndedAt: 2023-04-10 15:10:45 -0400 (Mon, 10 Apr 2023) EllapsedTime: 1.7 seconds RetCode: 0 Status: OK