Package: SDAMS Version: 1.18.0 Command: /home/biocbuild/bbs-3.16-bioc/R/bin/R CMD INSTALL SDAMS StartedAt: 2023-04-10 15:15:26 -0400 (Mon, 10 Apr 2023) EndedAt: 2023-04-10 15:15:50 -0400 (Mon, 10 Apr 2023) EllapsedTime: 23.8 seconds RetCode: 0 Status: OK