Package: Rtreemix Version: 1.60.0 Command: rm -rf Rtreemix.buildbin-libdir && mkdir Rtreemix.buildbin-libdir && /Users/biocbuild/BBS/utils/build-universal.sh Rtreemix_1.60.0.tar.gz /Library/Frameworks/R.framework/Resources/bin/R Rtreemix.buildbin-libdir StartedAt: 2023-04-11 00:02:33 -0400 (Tue, 11 Apr 2023) EndedAt: 2023-04-11 00:03:44 -0400 (Tue, 11 Apr 2023) EllapsedTime: 71.6 seconds RetCode: 0 Status: OK PackageFile: Rtreemix_1.60.0.tgz PackageFileSize: 1.019 MiB