Package: ResidualMatrix Version: 1.8.0 Command: /home/biocbuild/bbs-3.16-bioc/R/bin/R CMD check --install=check:ResidualMatrix.install-out.txt --library=/home/biocbuild/bbs-3.16-bioc/R/site-library --timings ResidualMatrix_1.8.0.tar.gz StartedAt: 2023-04-10 23:22:23 -0400 (Mon, 10 Apr 2023) EndedAt: 2023-04-10 23:25:23 -0400 (Mon, 10 Apr 2023) EllapsedTime: 179.1 seconds RetCode: 0 Status: OK CheckDir: ResidualMatrix.Rcheck Warnings: 0