Package: RedeR Version: 2.2.1 Command: /Library/Frameworks/R.framework/Resources/bin/R CMD INSTALL RedeR StartedAt: 2023-04-10 15:18:53 -0400 (Mon, 10 Apr 2023) EndedAt: 2023-04-10 15:19:01 -0400 (Mon, 10 Apr 2023) EllapsedTime: 8.5 seconds RetCode: 0 Status: OK