Package: ReactomePA Version: 1.42.0 Command: /home/biocbuild/bbs-3.16-bioc/R/bin/R CMD build --keep-empty-dirs --no-resave-data ReactomePA StartedAt: 2023-04-10 17:55:47 -0400 (Mon, 10 Apr 2023) EndedAt: 2023-04-10 17:56:21 -0400 (Mon, 10 Apr 2023) EllapsedTime: 33.5 seconds RetCode: 0 Status: OK PackageFile: ReactomePA_1.42.0.tar.gz PackageFileSize: 57.34 KiB