Package: RcisTarget Version: 1.17.0 Command: /Library/Frameworks/R.framework/Resources/bin/R CMD INSTALL RcisTarget StartedAt: 2022-07-10 19:30:32 -0400 (Sun, 10 Jul 2022) EndedAt: 2022-07-10 19:32:11 -0400 (Sun, 10 Jul 2022) EllapsedTime: 99.4 seconds RetCode: 0 Status: OK