Package: RareVariantVis Version: 2.26.0 Command: /Library/Frameworks/R.framework/Resources/bin/R CMD INSTALL RareVariantVis StartedAt: 2023-04-10 15:35:59 -0400 (Mon, 10 Apr 2023) EndedAt: 2023-04-10 15:36:52 -0400 (Mon, 10 Apr 2023) EllapsedTime: 52.7 seconds RetCode: 0 Status: OK