Package: RareVariantVis Version: 2.26.0 Command: rm -rf RareVariantVis.buildbin-libdir && mkdir RareVariantVis.buildbin-libdir && /Users/biocbuild/BBS/utils/build-universal.sh RareVariantVis_2.26.0.tar.gz /Library/Frameworks/R.framework/Resources/bin/R RareVariantVis.buildbin-libdir StartedAt: 2023-04-10 23:59:03 -0400 (Mon, 10 Apr 2023) EndedAt: 2023-04-10 23:59:59 -0400 (Mon, 10 Apr 2023) EllapsedTime: 55.9 seconds RetCode: 0 Status: OK PackageFile: RareVariantVis_2.26.0.tgz PackageFileSize: 2.732 MiB