Package: RCSL Version: 1.6.0 Command: /Library/Frameworks/R.framework/Resources/bin/R CMD build --keep-empty-dirs --no-resave-data RCSL StartedAt: 2023-04-10 17:40:27 -0400 (Mon, 10 Apr 2023) EndedAt: 2023-04-10 17:40:59 -0400 (Mon, 10 Apr 2023) EllapsedTime: 31.5 seconds RetCode: 0 Status: OK PackageFile: RCSL_1.6.0.tar.gz PackageFileSize: 1.933 MiB