Package: RCM Version: 1.14.0 Command: /Library/Frameworks/R.framework/Resources/bin/R CMD INSTALL RCM StartedAt: 2023-04-10 15:20:49 -0400 (Mon, 10 Apr 2023) EndedAt: 2023-04-10 15:21:18 -0400 (Mon, 10 Apr 2023) EllapsedTime: 28.5 seconds RetCode: 0 Status: OK