Package: QSutils Version: 1.15.0 Command: rm -rf QSutils.buildbin-libdir && mkdir QSutils.buildbin-libdir && /Users/biocbuild/BBS/utils/build-universal.sh QSutils_1.15.0.tar.gz /Library/Frameworks/R.framework/Resources/bin/R QSutils.buildbin-libdir StartedAt: 2022-07-07 08:48:08 -0400 (Thu, 07 Jul 2022) EndedAt: 2022-07-07 08:48:30 -0400 (Thu, 07 Jul 2022) EllapsedTime: 22.0 seconds RetCode: 0 Status: OK PackageFile: QSutils_1.15.0.tgz PackageFileSize: 1.348 MiB