Package: Path2PPI Version: 1.27.0 Command: rm -rf Path2PPI.buildbin-libdir && mkdir Path2PPI.buildbin-libdir && /Users/biocbuild/BBS/utils/build-universal.sh Path2PPI_1.27.0.tar.gz /Library/Frameworks/R.framework/Resources/bin/R Path2PPI.buildbin-libdir StartedAt: 2022-07-07 08:43:28 -0400 (Thu, 07 Jul 2022) EndedAt: 2022-07-07 08:43:37 -0400 (Thu, 07 Jul 2022) EllapsedTime: 8.9 seconds RetCode: 0 Status: OK PackageFile: Path2PPI_1.27.0.tgz PackageFileSize: 1.273 MiB