Package: PLPE Version: 1.58.0 Command: /home/biocbuild/bbs-3.16-bioc/R/bin/R CMD INSTALL PLPE StartedAt: 2023-04-10 15:10:32 -0400 (Mon, 10 Apr 2023) EndedAt: 2023-04-10 15:10:37 -0400 (Mon, 10 Apr 2023) EllapsedTime: 5.0 seconds RetCode: 0 Status: OK