Package: PCAN Version: 1.26.0 Command: /home/biocbuild/bbs-3.16-bioc/R/bin/R CMD build --keep-empty-dirs --no-resave-data PCAN StartedAt: 2023-04-10 17:36:43 -0400 (Mon, 10 Apr 2023) EndedAt: 2023-04-10 17:37:56 -0400 (Mon, 10 Apr 2023) EllapsedTime: 73.3 seconds RetCode: 0 Status: OK PackageFile: PCAN_1.26.0.tar.gz PackageFileSize: 2.442 MiB