Package: Organism.dplyr Version: 1.26.0 Command: /home/biocbuild/bbs-3.16-bioc/R/bin/R CMD build --keep-empty-dirs --no-resave-data Organism.dplyr StartedAt: 2023-04-10 17:31:20 -0400 (Mon, 10 Apr 2023) EndedAt: 2023-04-10 17:33:04 -0400 (Mon, 10 Apr 2023) EllapsedTime: 104.4 seconds RetCode: 0 Status: OK PackageFile: Organism.dplyr_1.26.0.tar.gz PackageFileSize: 502.1 KiB