Package: OncoSimulR Version: 4.0.2 Command: /Library/Frameworks/R.framework/Resources/bin/R CMD build --keep-empty-dirs --no-resave-data OncoSimulR StartedAt: 2023-04-10 17:22:11 -0400 (Mon, 10 Apr 2023) EndedAt: 2023-04-10 17:28:36 -0400 (Mon, 10 Apr 2023) EllapsedTime: 384.2 seconds RetCode: 0 Status: OK PackageFile: OncoSimulR_4.0.2.tar.gz PackageFileSize: 7.046 MiB