Package: OmicsLonDA Version: 1.14.0 Command: /home/biocbuild/bbs-3.16-bioc/R/bin/R CMD INSTALL OmicsLonDA StartedAt: 2023-04-10 15:18:43 -0400 (Mon, 10 Apr 2023) EndedAt: 2023-04-10 15:19:16 -0400 (Mon, 10 Apr 2023) EllapsedTime: 33.3 seconds RetCode: 0 Status: OK