Package: NxtIRFcore Version: 1.4.0 Command: F:\biocbuild\bbs-3.16-bioc\R\bin\R.exe CMD INSTALL NxtIRFcore StartedAt: 2023-04-10 16:35:26 -0400 (Mon, 10 Apr 2023) EndedAt: 2023-04-10 16:37:25 -0400 (Mon, 10 Apr 2023) EllapsedTime: 118.5 seconds RetCode: 0 Status: OK