Package: NxtIRFcore Version: 1.4.0 Command: rm -rf NxtIRFcore.buildbin-libdir && mkdir NxtIRFcore.buildbin-libdir && F:\biocbuild\bbs-3.16-bioc\R\bin\R.exe CMD INSTALL --build --library=NxtIRFcore.buildbin-libdir NxtIRFcore_1.4.0.tar.gz StartedAt: 2023-04-11 08:25:37 -0400 (Tue, 11 Apr 2023) EndedAt: 2023-04-11 08:27:37 -0400 (Tue, 11 Apr 2023) EllapsedTime: 120.1 seconds RetCode: 0 Status: OK PackageFile: NxtIRFcore_1.4.0.zip PackageFileSize: 3.348 MiB