Package: NuPoP Version: 2.6.3 Command: /home/biocbuild/bbs-3.16-bioc/R/bin/R CMD build --keep-empty-dirs --no-resave-data NuPoP StartedAt: 2023-04-10 17:27:11 -0400 (Mon, 10 Apr 2023) EndedAt: 2023-04-10 17:27:38 -0400 (Mon, 10 Apr 2023) EllapsedTime: 27.3 seconds RetCode: 0 Status: OK PackageFile: NuPoP_2.6.3.tar.gz PackageFileSize: 6.102 MiB