Package: MutationalPatterns Version: 3.8.1 Command: /home/biocbuild/bbs-3.16-bioc/R/bin/R CMD INSTALL MutationalPatterns StartedAt: 2023-04-10 15:47:08 -0400 (Mon, 10 Apr 2023) EndedAt: 2023-04-10 15:47:33 -0400 (Mon, 10 Apr 2023) EllapsedTime: 24.8 seconds RetCode: 0 Status: OK