Package: MutationalPatterns Version: 3.8.1 Command: /home/biocbuild/bbs-3.16-bioc/R/bin/R CMD check --install=check:MutationalPatterns.install-out.txt --library=/home/biocbuild/bbs-3.16-bioc/R/site-library --timings MutationalPatterns_3.8.1.tar.gz StartedAt: 2023-04-10 22:16:12 -0400 (Mon, 10 Apr 2023) EndedAt: 2023-04-10 22:37:12 -0400 (Mon, 10 Apr 2023) EllapsedTime: 1260.1 seconds RetCode: 0 Status: OK CheckDir: MutationalPatterns.Rcheck Warnings: 0