Package: MultiBaC Version: 1.8.0 Command: rm -rf MultiBaC.buildbin-libdir && mkdir MultiBaC.buildbin-libdir && /Users/biocbuild/BBS/utils/build-universal.sh MultiBaC_1.8.0.tar.gz /Library/Frameworks/R.framework/Resources/bin/R MultiBaC.buildbin-libdir StartedAt: 2023-04-10 23:53:46 -0400 (Mon, 10 Apr 2023) EndedAt: 2023-04-10 23:53:54 -0400 (Mon, 10 Apr 2023) EllapsedTime: 7.9 seconds RetCode: 0 Status: OK PackageFile: MultiBaC_1.8.0.tgz PackageFileSize: 1.593 MiB