Package: MsFeatures Version: 1.6.0 Command: chmod a+r MsFeatures -R && F:\biocbuild\bbs-3.16-bioc\R\bin\R.exe CMD build --keep-empty-dirs --no-resave-data MsFeatures StartedAt: 2023-04-10 20:01:10 -0400 (Mon, 10 Apr 2023) EndedAt: 2023-04-10 20:01:51 -0400 (Mon, 10 Apr 2023) EllapsedTime: 41.6 seconds RetCode: 0 Status: OK PackageFile: MsFeatures_1.6.0.tar.gz PackageFileSize: 828.8 KiB