Package: MsCoreUtils Version: 1.10.0 Command: rm -rf MsCoreUtils.buildbin-libdir && mkdir MsCoreUtils.buildbin-libdir && F:\biocbuild\bbs-3.16-bioc\R\bin\R.exe CMD INSTALL --build --library=MsCoreUtils.buildbin-libdir MsCoreUtils_1.10.0.tar.gz StartedAt: 2023-04-11 08:21:21 -0400 (Tue, 11 Apr 2023) EndedAt: 2023-04-11 08:21:35 -0400 (Tue, 11 Apr 2023) EllapsedTime: 13.4 seconds RetCode: 0 Status: OK PackageFile: MsCoreUtils_1.10.0.zip PackageFileSize: 472.8 KiB