Package: MsCoreUtils Version: 1.10.0 Command: /home/biocbuild/bbs-3.16-bioc/R/bin/R CMD check --install=check:MsCoreUtils.install-out.txt --library=/home/biocbuild/bbs-3.16-bioc/R/site-library --timings MsCoreUtils_1.10.0.tar.gz StartedAt: 2023-04-10 22:10:16 -0400 (Mon, 10 Apr 2023) EndedAt: 2023-04-10 22:12:32 -0400 (Mon, 10 Apr 2023) EllapsedTime: 136.1 seconds RetCode: 0 Status: OK CheckDir: MsCoreUtils.Rcheck Warnings: 0