Package: MsCoreUtils Version: 1.10.0 Command: /home/biocbuild/bbs-3.16-bioc/R/bin/R CMD build --keep-empty-dirs --no-resave-data MsCoreUtils StartedAt: 2023-04-10 17:20:50 -0400 (Mon, 10 Apr 2023) EndedAt: 2023-04-10 17:21:00 -0400 (Mon, 10 Apr 2023) EllapsedTime: 9.3 seconds RetCode: 0 Status: OK PackageFile: MsCoreUtils_1.10.0.tar.gz PackageFileSize: 376.1 KiB