Package: MsCoreUtils Version: 1.9.0 Command: /Library/Frameworks/R.framework/Resources/bin/R CMD build --keep-empty-dirs --no-resave-data MsCoreUtils StartedAt: 2022-07-07 00:44:51 -0400 (Thu, 07 Jul 2022) EndedAt: 2022-07-07 00:45:03 -0400 (Thu, 07 Jul 2022) EllapsedTime: 12.0 seconds RetCode: 0 Status: OK PackageFile: MsCoreUtils_1.9.0.tar.gz PackageFileSize: 374.1 KiB