Package: Mergeomics Version: 1.26.0 Command: /Library/Frameworks/R.framework/Resources/bin/R CMD build --keep-empty-dirs --no-resave-data Mergeomics StartedAt: 2023-04-10 17:02:13 -0400 (Mon, 10 Apr 2023) EndedAt: 2023-04-10 17:07:16 -0400 (Mon, 10 Apr 2023) EllapsedTime: 303.0 seconds RetCode: 0 Status: OK PackageFile: Mergeomics_1.26.0.tar.gz PackageFileSize: 3.203 MiB