Package: MatrixQCvis Version: 1.6.1 Command: /home/biocbuild/bbs-3.16-bioc/R/bin/R CMD build --keep-empty-dirs --no-resave-data MatrixQCvis StartedAt: 2023-04-10 17:09:23 -0400 (Mon, 10 Apr 2023) EndedAt: 2023-04-10 17:10:22 -0400 (Mon, 10 Apr 2023) EllapsedTime: 58.5 seconds RetCode: 0 Status: OK PackageFile: MatrixQCvis_1.6.1.tar.gz PackageFileSize: 1.585 MiB