Package: MLInterfaces Version: 1.78.0 Command: /home/biocbuild/bbs-3.16-bioc/R/bin/R CMD check --install=check:MLInterfaces.install-out.txt --library=/home/biocbuild/bbs-3.16-bioc/R/site-library --timings MLInterfaces_1.78.0.tar.gz StartedAt: 2023-04-10 22:03:50 -0400 (Mon, 10 Apr 2023) EndedAt: 2023-04-10 22:08:54 -0400 (Mon, 10 Apr 2023) EllapsedTime: 303.8 seconds RetCode: 0 Status: OK CheckDir: MLInterfaces.Rcheck Warnings: 0