Package: MDTS Version: 1.18.0 Command: /home/biocbuild/bbs-3.16-bioc/R/bin/R CMD build --keep-empty-dirs --no-resave-data MDTS StartedAt: 2023-04-10 17:10:22 -0400 (Mon, 10 Apr 2023) EndedAt: 2023-04-10 17:10:57 -0400 (Mon, 10 Apr 2023) EllapsedTime: 34.5 seconds RetCode: 0 Status: OK PackageFile: MDTS_1.18.0.tar.gz PackageFileSize: 31.39 KiB