Package: LineagePulse Version: 1.18.0 Command: F:\biocbuild\bbs-3.16-bioc\R\bin\R.exe CMD INSTALL LineagePulse StartedAt: 2023-04-10 15:58:52 -0400 (Mon, 10 Apr 2023) EndedAt: 2023-04-10 15:59:34 -0400 (Mon, 10 Apr 2023) EllapsedTime: 42.0 seconds RetCode: 0 Status: OK