Package: LineagePulse Version: 1.18.0 Command: rm -rf LineagePulse.buildbin-libdir && mkdir LineagePulse.buildbin-libdir && F:\biocbuild\bbs-3.16-bioc\R\bin\R.exe CMD INSTALL --build --library=LineagePulse.buildbin-libdir LineagePulse_1.18.0.tar.gz StartedAt: 2023-04-11 08:13:19 -0400 (Tue, 11 Apr 2023) EndedAt: 2023-04-11 08:14:17 -0400 (Tue, 11 Apr 2023) EllapsedTime: 58.1 seconds RetCode: 0 Status: OK PackageFile: LineagePulse_1.18.0.zip PackageFileSize: 654.6 KiB