Package: IsoformSwitchAnalyzeR Version: 1.20.0 Command: /Library/Frameworks/R.framework/Resources/bin/R CMD build --keep-empty-dirs --no-resave-data IsoformSwitchAnalyzeR StartedAt: 2023-04-10 16:55:26 -0400 (Mon, 10 Apr 2023) EndedAt: 2023-04-10 16:56:40 -0400 (Mon, 10 Apr 2023) EllapsedTime: 73.8 seconds RetCode: 1 Status: ERROR PackageFile: None PackageFileSize: NA