Package: HDF5Array Version: 1.25.1 Command: /Library/Frameworks/R.framework/Resources/bin/R CMD build --keep-empty-dirs --no-resave-data HDF5Array StartedAt: 2022-07-06 22:27:20 -0400 (Wed, 06 Jul 2022) EndedAt: 2022-07-06 22:27:22 -0400 (Wed, 06 Jul 2022) EllapsedTime: 2.2 seconds RetCode: 0 Status: OK PackageFile: HDF5Array_1.25.1.tar.gz PackageFileSize: 7.722 MiB