Package: GraphPAC Version: 1.40.0 Command: chmod a+r GraphPAC -R && F:\biocbuild\bbs-3.16-bioc\R\bin\R.exe CMD build --keep-empty-dirs --no-resave-data GraphPAC StartedAt: 2023-04-10 19:06:50 -0400 (Mon, 10 Apr 2023) EndedAt: 2023-04-10 19:08:15 -0400 (Mon, 10 Apr 2023) EllapsedTime: 85.1 seconds RetCode: 0 Status: OK PackageFile: GraphPAC_1.40.0.tar.gz PackageFileSize: 543 KiB