Package: GraphPAC Version: 1.40.0 Command: rm -rf GraphPAC.buildbin-libdir && mkdir GraphPAC.buildbin-libdir && F:\biocbuild\bbs-3.16-bioc\R\bin\R.exe CMD INSTALL --build --library=GraphPAC.buildbin-libdir GraphPAC_1.40.0.tar.gz StartedAt: 2023-04-11 08:06:30 -0400 (Tue, 11 Apr 2023) EndedAt: 2023-04-11 08:07:02 -0400 (Tue, 11 Apr 2023) EllapsedTime: 31.8 seconds RetCode: 0 Status: OK PackageFile: GraphPAC_1.40.0.zip PackageFileSize: 360.6 KiB