Package: GenomicAlignments Version: 1.34.1 Command: rm -rf GenomicAlignments.buildbin-libdir && mkdir GenomicAlignments.buildbin-libdir && F:\biocbuild\bbs-3.16-bioc\R\bin\R.exe CMD INSTALL --build --library=GenomicAlignments.buildbin-libdir GenomicAlignments_1.34.1.tar.gz StartedAt: 2023-04-11 08:03:19 -0400 (Tue, 11 Apr 2023) EndedAt: 2023-04-11 08:04:41 -0400 (Tue, 11 Apr 2023) EllapsedTime: 81.1 seconds RetCode: 0 Status: OK PackageFile: GenomicAlignments_1.34.1.zip PackageFileSize: 2.272 MiB