Package: GenomicAlignments Version: 1.33.0 Command: /Library/Frameworks/R.framework/Resources/bin/R CMD build --keep-empty-dirs --no-resave-data GenomicAlignments StartedAt: 2022-07-06 21:40:50 -0400 (Wed, 06 Jul 2022) EndedAt: 2022-07-06 21:41:58 -0400 (Wed, 06 Jul 2022) EllapsedTime: 68.5 seconds RetCode: 1 Status: ERROR PackageFile: None PackageFileSize: NA