Package: GeneSelectMMD Version: 2.42.3 Command: /home/biocbuild/bbs-3.16-bioc/R/bin/R CMD build --keep-empty-dirs --no-resave-data GeneSelectMMD StartedAt: 2023-04-10 16:50:08 -0400 (Mon, 10 Apr 2023) EndedAt: 2023-04-10 16:50:19 -0400 (Mon, 10 Apr 2023) EllapsedTime: 11.5 seconds RetCode: 0 Status: OK PackageFile: GeneSelectMMD_2.42.3.tar.gz PackageFileSize: 302.2 KiB